Package: GOSemSim Version: 2.35.2 Command: rm -rf GOSemSim.buildbin-libdir && mkdir GOSemSim.buildbin-libdir && /Users/biocbuild/BBS/utils/build-universal.sh GOSemSim_2.35.2.tar.gz /Library/Frameworks/R.framework/Resources/bin/R GOSemSim.buildbin-libdir StartedAt: 2025-10-24 23:05:08 -0400 (Fri, 24 Oct 2025) EndedAt: 2025-10-24 23:05:18 -0400 (Fri, 24 Oct 2025) EllapsedTime: 9.2 seconds RetCode: 0 Status: OK PackageFile: GOSemSim_2.35.2.tgz PackageFileSize: 1.146 MiB