Package: GOSemSim Version: 2.36.0 Maintainer: Guangchuang Yu MaintainerEmail: guangchuangyu at gmail.com git_url: https://git.bioconductor.org/packages/GOSemSim git_branch: RELEASE_3_22 git_last_commit: c1bf5c5 git_last_commit_date: 2025-10-29 10:02:04 -0400 (Wed, 29 Oct 2025)