Package: GNOSIS Version: 1.7.0 Command: /home/biocbuild/bbs-3.22-bioc/R/bin/R CMD build --keep-empty-dirs --no-resave-data --md5 GNOSIS StartedAt: 2025-10-24 18:05:17 -0400 (Fri, 24 Oct 2025) EndedAt: 2025-10-24 18:06:37 -0400 (Fri, 24 Oct 2025) EllapsedTime: 80.1 seconds RetCode: 0 Status: OK PackageFile: GNOSIS_1.7.0.tar.gz PackageFileSize: 3.376 MiB