Package: GNOSIS Version: 1.7.0 Command: /Library/Frameworks/R.framework/Resources/bin/R CMD INSTALL GNOSIS StartedAt: 2025-10-27 15:23:07 -0400 (Mon, 27 Oct 2025) EndedAt: 2025-10-27 15:23:31 -0400 (Mon, 27 Oct 2025) EllapsedTime: 24.4 seconds RetCode: 0 Status: OK