Package: GNET2 Version: 1.25.0 Command: /home/biocbuild/bbs-3.22-bioc/R/bin/R CMD check --install=check:GNET2.install-out.txt --library=/home/biocbuild/bbs-3.22-bioc/R/site-library --timings GNET2_1.25.0.tar.gz StartedAt: 2025-10-25 00:13:50 -0400 (Sat, 25 Oct 2025) EndedAt: 2025-10-25 00:17:00 -0400 (Sat, 25 Oct 2025) EllapsedTime: 190.2 seconds RetCode: 0 Status: OK CheckDir: GNET2.Rcheck Warnings: 0