Package: GNET2 Version: 1.25.0 Command: /home/biocbuild/bbs-3.22-bioc/R/bin/R CMD build --keep-empty-dirs --no-resave-data --md5 GNET2 StartedAt: 2025-10-24 18:05:15 -0400 (Fri, 24 Oct 2025) EndedAt: 2025-10-24 18:06:04 -0400 (Fri, 24 Oct 2025) EllapsedTime: 49.1 seconds RetCode: 0 Status: OK PackageFile: GNET2_1.25.0.tar.gz PackageFileSize: 741.3 KiB