Package: GNET2 Version: 1.25.0 Command: /Library/Frameworks/R.framework/Resources/bin/R CMD INSTALL GNET2 StartedAt: 2025-10-24 15:27:32 -0400 (Fri, 24 Oct 2025) EndedAt: 2025-10-24 15:28:15 -0400 (Fri, 24 Oct 2025) EllapsedTime: 42.6 seconds RetCode: 0 Status: OK