Package: GMRP Version: 1.37.0 Command: /home/biocbuild/bbs-3.22-bioc/R/bin/R CMD INSTALL GMRP StartedAt: 2025-10-24 15:27:18 -0400 (Fri, 24 Oct 2025) EndedAt: 2025-10-24 15:27:27 -0400 (Fri, 24 Oct 2025) EllapsedTime: 9.2 seconds RetCode: 0 Status: OK