Package: GIGSEA Version: 1.27.0 Command: /home/biocbuild/bbs-3.22-bioc/R/bin/R CMD INSTALL GIGSEA StartedAt: 2025-10-24 15:15:37 -0400 (Fri, 24 Oct 2025) EndedAt: 2025-10-24 15:15:43 -0400 (Fri, 24 Oct 2025) EllapsedTime: 5.1 seconds RetCode: 0 Status: OK