Package: GEWIST Version: 1.53.0 Command: /home/biocbuild/bbs-3.22-bioc/R/bin/R CMD build --keep-empty-dirs --no-resave-data --md5 GEWIST StartedAt: 2025-10-24 18:00:30 -0400 (Fri, 24 Oct 2025) EndedAt: 2025-10-24 18:01:57 -0400 (Fri, 24 Oct 2025) EllapsedTime: 87.1 seconds RetCode: 0 Status: OK PackageFile: GEWIST_1.53.0.tar.gz PackageFileSize: 389 KiB