Package: GEOsubmission Version: 1.61.0 Command: /home/biocbuild/bbs-3.22-bioc/R/bin/R CMD INSTALL GEOsubmission StartedAt: 2025-10-24 15:23:20 -0400 (Fri, 24 Oct 2025) EndedAt: 2025-10-24 15:23:25 -0400 (Fri, 24 Oct 2025) EllapsedTime: 4.6 seconds RetCode: 0 Status: OK