Package: GEOsubmission Version: 1.62.0 Command: /Library/Frameworks/R.framework/Resources/bin/R CMD check --install=check:GEOsubmission.install-out.txt --library=/Library/Frameworks/R.framework/Resources/library --no-vignettes --timings GEOsubmission_1.62.0.tar.gz StartedAt: 2025-10-30 21:20:38 -0400 (Thu, 30 Oct 2025) EndedAt: 2025-10-30 21:21:15 -0400 (Thu, 30 Oct 2025) EllapsedTime: 36.4 seconds RetCode: 0 Status: OK CheckDir: GEOsubmission.Rcheck Warnings: 0