Package: GEOsubmission Version: 1.61.0 Command: /Library/Frameworks/R.framework/Resources/bin/R CMD check --install=check:GEOsubmission.install-out.txt --library=/Library/Frameworks/R.framework/Resources/library --no-vignettes --timings GEOsubmission_1.61.0.tar.gz StartedAt: 2025-10-26 19:54:05 -0400 (Sun, 26 Oct 2025) EndedAt: 2025-10-26 19:54:21 -0400 (Sun, 26 Oct 2025) EllapsedTime: 16.2 seconds RetCode: 0 Status: OK CheckDir: GEOsubmission.Rcheck Warnings: 0