Package: GEOquery Version: 2.78.0 Command: /home/biocbuild/bbs-3.22-bioc/R/bin/R CMD check --install=check:GEOquery.install-out.txt --library=/home/biocbuild/bbs-3.22-bioc/R/site-library --timings GEOquery_2.78.0.tar.gz StartedAt: 2025-10-30 06:23:26 -0400 (Thu, 30 Oct 2025) EndedAt: 2025-10-30 06:28:27 -0400 (Thu, 30 Oct 2025) EllapsedTime: 301.4 seconds RetCode: 0 Status: WARNINGS CheckDir: GEOquery.Rcheck Warnings: 1