Package: GEOquery Version: 2.77.6 Command: /Library/Frameworks/R.framework/Resources/bin/R CMD INSTALL GEOquery StartedAt: 2025-10-24 15:39:31 -0400 (Fri, 24 Oct 2025) EndedAt: 2025-10-24 15:40:06 -0400 (Fri, 24 Oct 2025) EllapsedTime: 34.7 seconds RetCode: 0 Status: OK