Package: GEOquery Version: 2.77.6 Command: rm -rf GEOquery.buildbin-libdir && mkdir GEOquery.buildbin-libdir && /Users/biocbuild/BBS/utils/build-universal.sh GEOquery_2.77.6.tar.gz /Library/Frameworks/R.framework/Resources/bin/R GEOquery.buildbin-libdir StartedAt: 2025-10-25 01:42:17 -0400 (Sat, 25 Oct 2025) EndedAt: 2025-10-25 01:42:56 -0400 (Sat, 25 Oct 2025) EllapsedTime: 39.8 seconds RetCode: 0 Status: OK PackageFile: GEOquery_2.77.6.tgz PackageFileSize: 13.13 MiB