Package: GEOquery Version: 2.77.6 Command: /Library/Frameworks/R.framework/Resources/bin/R CMD INSTALL GEOquery StartedAt: 2025-10-26 15:18:15 -0400 (Sun, 26 Oct 2025) EndedAt: 2025-10-26 15:18:25 -0400 (Sun, 26 Oct 2025) EllapsedTime: 10.1 seconds RetCode: 0 Status: OK