Package: GEOquery Version: 2.77.6 Command: /Library/Frameworks/R.framework/Resources/bin/R CMD build --keep-empty-dirs --no-resave-data GEOquery StartedAt: 2025-10-26 16:36:24 -0400 (Sun, 26 Oct 2025) EndedAt: 2025-10-26 16:36:25 -0400 (Sun, 26 Oct 2025) EllapsedTime: 1.0 seconds RetCode: 0 Status: OK PackageFile: GEOquery_2.77.6.tar.gz PackageFileSize: 12.83 MiB