Package: GEOmetadb Version: 1.71.0 Command: /home/biocbuild/bbs-3.22-bioc/R/bin/R CMD INSTALL GEOmetadb StartedAt: 2025-10-24 15:14:51 -0400 (Fri, 24 Oct 2025) EndedAt: 2025-10-24 15:15:04 -0400 (Fri, 24 Oct 2025) EllapsedTime: 13.8 seconds RetCode: 0 Status: OK