Package: GEOmetadb Version: 1.72.0 Command: /Library/Frameworks/R.framework/Resources/bin/R CMD INSTALL GEOmetadb StartedAt: 2025-10-31 15:06:03 -0400 (Fri, 31 Oct 2025) EndedAt: 2025-10-31 15:06:08 -0400 (Fri, 31 Oct 2025) EllapsedTime: 5.0 seconds RetCode: 0 Status: OK