Package: GEOmetadb Version: 1.72.0 Command: /Library/Frameworks/R.framework/Resources/bin/R CMD build --keep-empty-dirs --no-resave-data GEOmetadb StartedAt: 2025-11-02 16:31:17 -0500 (Sun, 02 Nov 2025) EndedAt: 2025-11-02 16:31:29 -0500 (Sun, 02 Nov 2025) EllapsedTime: 12.1 seconds RetCode: 0 Status: OK PackageFile: GEOmetadb_1.72.0.tar.gz PackageFileSize: 619.3 KiB