Package: GEOmetadb Version: 1.72.0 Command: rm -rf GEOmetadb.buildbin-libdir && mkdir GEOmetadb.buildbin-libdir && /Users/biocbuild/BBS/utils/build-universal.sh GEOmetadb_1.72.0.tar.gz /Library/Frameworks/R.framework/Resources/bin/R GEOmetadb.buildbin-libdir StartedAt: 2025-11-02 23:06:29 -0500 (Sun, 02 Nov 2025) EndedAt: 2025-11-02 23:06:31 -0500 (Sun, 02 Nov 2025) EllapsedTime: 2.0 seconds RetCode: 0 Status: OK PackageFile: GEOmetadb_1.72.0.tgz PackageFileSize: 530.5 KiB