Package: GEOfastq Version: 1.18.0 Command: /Library/Frameworks/R.framework/Resources/bin/R CMD INSTALL GEOfastq StartedAt: 2025-11-02 15:03:48 -0500 (Sun, 02 Nov 2025) EndedAt: 2025-11-02 15:04:07 -0500 (Sun, 02 Nov 2025) EllapsedTime: 19.2 seconds RetCode: 0 Status: OK