Package: GEOfastq Version: 1.18.0 Command: /Library/Frameworks/R.framework/Resources/bin/R CMD build --keep-empty-dirs --no-resave-data GEOfastq StartedAt: 2025-10-31 16:35:08 -0400 (Fri, 31 Oct 2025) EndedAt: 2025-10-31 16:35:12 -0400 (Fri, 31 Oct 2025) EllapsedTime: 4.0 seconds RetCode: 0 Status: OK PackageFile: GEOfastq_1.18.0.tar.gz PackageFileSize: 13.06 KiB