Package: GEOfastq Version: 1.18.0 Command: rm -rf GEOfastq.buildbin-libdir && mkdir GEOfastq.buildbin-libdir && /Users/biocbuild/BBS/utils/build-universal.sh GEOfastq_1.18.0.tar.gz /Library/Frameworks/R.framework/Resources/bin/R GEOfastq.buildbin-libdir StartedAt: 2025-10-31 23:08:41 -0400 (Fri, 31 Oct 2025) EndedAt: 2025-10-31 23:08:43 -0400 (Fri, 31 Oct 2025) EllapsedTime: 2.0 seconds RetCode: 0 Status: OK PackageFile: GEOfastq_1.18.0.tgz PackageFileSize: 37.08 KiB