Package: GENESIS Version: 2.39.3 Command: /home/biocbuild/bbs-3.22-bioc/R/bin/R CMD INSTALL GENESIS StartedAt: 2025-10-24 15:34:24 -0400 (Fri, 24 Oct 2025) EndedAt: 2025-10-24 15:34:49 -0400 (Fri, 24 Oct 2025) EllapsedTime: 25.3 seconds RetCode: 0 Status: OK