Package: GENESIS Version: 2.39.3 Command: /home/biocbuild/bbs-3.22-bioc/R/bin/R CMD build --keep-empty-dirs --no-resave-data --md5 GENESIS StartedAt: 2025-10-24 17:56:16 -0400 (Fri, 24 Oct 2025) EndedAt: 2025-10-24 17:58:13 -0400 (Fri, 24 Oct 2025) EllapsedTime: 117.1 seconds RetCode: 0 Status: OK PackageFile: GENESIS_2.39.3.tar.gz PackageFileSize: 3.818 MiB