Package: GDSArray Version: 1.29.0 Command: /home/biocbuild/R/R/bin/R CMD INSTALL GDSArray StartedAt: 2025-10-23 20:44:58 -0000 (Thu, 23 Oct 2025) EndedAt: 2025-10-23 20:45:21 -0000 (Thu, 23 Oct 2025) EllapsedTime: 22.9 seconds RetCode: 0 Status: OK