Package: GDSArray Version: 1.29.0 Command: rm -rf GDSArray.buildbin-libdir && mkdir GDSArray.buildbin-libdir && /Users/biocbuild/BBS/utils/build-universal.sh GDSArray_1.29.0.tar.gz /Library/Frameworks/R.framework/Resources/bin/R GDSArray.buildbin-libdir StartedAt: 2025-10-25 01:41:21 -0400 (Sat, 25 Oct 2025) EndedAt: 2025-10-25 01:41:50 -0400 (Sat, 25 Oct 2025) EllapsedTime: 28.7 seconds RetCode: 0 Status: OK PackageFile: GDSArray_1.29.0.tgz PackageFileSize: 663.9 KiB