Package: GDSArray Version: 1.29.0 Command: /Library/Frameworks/R.framework/Resources/bin/R CMD INSTALL GDSArray StartedAt: 2025-10-24 15:18:04 -0400 (Fri, 24 Oct 2025) EndedAt: 2025-10-24 15:18:11 -0400 (Fri, 24 Oct 2025) EllapsedTime: 6.8 seconds RetCode: 0 Status: OK