Package: GDSArray Version: 1.29.0 Command: rm -rf GDSArray.buildbin-libdir && mkdir GDSArray.buildbin-libdir && /Users/biocbuild/BBS/utils/build-universal.sh GDSArray_1.29.0.tar.gz /Library/Frameworks/R.framework/Resources/bin/R GDSArray.buildbin-libdir StartedAt: 2025-10-24 23:03:51 -0400 (Fri, 24 Oct 2025) EndedAt: 2025-10-24 23:04:01 -0400 (Fri, 24 Oct 2025) EllapsedTime: 10.2 seconds RetCode: 0 Status: OK PackageFile: GDSArray_1.29.0.tgz PackageFileSize: 664.5 KiB