Package: GDCRNATools Version: 1.29.0 Command: /home/biocbuild/bbs-3.22-bioc/R/bin/R CMD INSTALL GDCRNATools StartedAt: 2025-10-24 15:59:32 -0400 (Fri, 24 Oct 2025) EndedAt: 2025-10-24 16:00:30 -0400 (Fri, 24 Oct 2025) EllapsedTime: 58.5 seconds RetCode: 0 Status: OK