Package: GBScleanR Version: 2.3.2 Command: /home/biocbuild/bbs-3.22-bioc/R/bin/R CMD INSTALL GBScleanR StartedAt: 2025-10-24 15:42:38 -0400 (Fri, 24 Oct 2025) EndedAt: 2025-10-24 15:43:23 -0400 (Fri, 24 Oct 2025) EllapsedTime: 45.9 seconds RetCode: 0 Status: OK