Package: GBScleanR Version: 2.4.0 Command: /Library/Frameworks/R.framework/Resources/bin/R CMD INSTALL GBScleanR StartedAt: 2025-11-10 15:18:01 -0500 (Mon, 10 Nov 2025) EndedAt: 2025-11-10 15:18:16 -0500 (Mon, 10 Nov 2025) EllapsedTime: 14.6 seconds RetCode: 0 Status: OK