Package: GAprediction Version: 1.36.0 Command: /Library/Frameworks/R.framework/Resources/bin/R CMD build --keep-empty-dirs --no-resave-data GAprediction StartedAt: 2025-11-10 16:26:55 -0500 (Mon, 10 Nov 2025) EndedAt: 2025-11-10 16:27:10 -0500 (Mon, 10 Nov 2025) EllapsedTime: 15.2 seconds RetCode: 0 Status: OK PackageFile: GAprediction_1.36.0.tar.gz PackageFileSize: 1.806 MiB