Package: GAprediction Version: 1.36.0 Command: rm -rf GAprediction.buildbin-libdir && mkdir GAprediction.buildbin-libdir && /Users/biocbuild/BBS/utils/build-universal.sh GAprediction_1.36.0.tar.gz /Library/Frameworks/R.framework/Resources/bin/R GAprediction.buildbin-libdir StartedAt: 2025-11-10 23:20:34 -0500 (Mon, 10 Nov 2025) EndedAt: 2025-11-10 23:20:41 -0500 (Mon, 10 Nov 2025) EllapsedTime: 7.1 seconds RetCode: 0 Status: OK PackageFile: GAprediction_1.36.0.tgz PackageFileSize: 885.2 KiB