Package: GARS Version: 1.29.0 Command: /home/biocbuild/bbs-3.22-bioc/R/bin/R CMD build --keep-empty-dirs --no-resave-data --md5 GARS StartedAt: 2025-10-24 17:52:42 -0400 (Fri, 24 Oct 2025) EndedAt: 2025-10-24 17:54:33 -0400 (Fri, 24 Oct 2025) EllapsedTime: 111.1 seconds RetCode: 0 Status: OK PackageFile: GARS_1.29.0.tar.gz PackageFileSize: 440.5 KiB