Package: GA4GHshiny Version: 1.31.1 Command: /home/biocbuild/bbs-3.22-bioc/R/bin/R CMD INSTALL GA4GHshiny StartedAt: 2025-10-24 15:56:39 -0400 (Fri, 24 Oct 2025) EndedAt: 2025-10-24 15:57:18 -0400 (Fri, 24 Oct 2025) EllapsedTime: 39.5 seconds RetCode: 0 Status: OK