Package: GA4GHshiny Version: 1.32.0 Command: /Library/Frameworks/R.framework/Resources/bin/R CMD INSTALL GA4GHshiny StartedAt: 2025-11-03 15:44:41 -0500 (Mon, 03 Nov 2025) EndedAt: 2025-11-03 15:45:35 -0500 (Mon, 03 Nov 2025) EllapsedTime: 53.9 seconds RetCode: 0 Status: OK