Package: GA4GHshiny Version: 1.32.0 Command: /Library/Frameworks/R.framework/Resources/bin/R CMD build --keep-empty-dirs --no-resave-data GA4GHshiny StartedAt: 2025-11-03 17:05:01 -0500 (Mon, 03 Nov 2025) EndedAt: 2025-11-03 17:05:52 -0500 (Mon, 03 Nov 2025) EllapsedTime: 51.3 seconds RetCode: 0 Status: OK PackageFile: GA4GHshiny_1.32.0.tar.gz PackageFileSize: 298.7 KiB