Package: GA4GHshiny Version: 1.32.0 Command: rm -rf GA4GHshiny.buildbin-libdir && mkdir GA4GHshiny.buildbin-libdir && /Users/biocbuild/BBS/utils/build-universal.sh GA4GHshiny_1.32.0.tar.gz /Library/Frameworks/R.framework/Resources/bin/R GA4GHshiny.buildbin-libdir StartedAt: 2025-11-04 01:41:00 -0500 (Tue, 04 Nov 2025) EndedAt: 2025-11-04 01:42:00 -0500 (Tue, 04 Nov 2025) EllapsedTime: 59.9 seconds RetCode: 0 Status: OK PackageFile: GA4GHshiny_1.32.0.tgz PackageFileSize: 476.8 KiB