Package: GA4GHshiny Version: 1.31.1 Command: rm -rf GA4GHshiny.buildbin-libdir && mkdir GA4GHshiny.buildbin-libdir && /Users/biocbuild/BBS/utils/build-universal.sh GA4GHshiny_1.31.1.tar.gz /Library/Frameworks/R.framework/Resources/bin/R GA4GHshiny.buildbin-libdir StartedAt: 2025-10-24 23:03:25 -0400 (Fri, 24 Oct 2025) EndedAt: 2025-10-24 23:03:49 -0400 (Fri, 24 Oct 2025) EllapsedTime: 23.4 seconds RetCode: 0 Status: OK PackageFile: GA4GHshiny_1.31.1.tgz PackageFileSize: 477 KiB