Package: GA4GHclient Version: 1.34.0 Command: /Library/Frameworks/R.framework/Resources/bin/R CMD INSTALL GA4GHclient StartedAt: 2025-10-30 15:37:24 -0400 (Thu, 30 Oct 2025) EndedAt: 2025-10-30 15:38:15 -0400 (Thu, 30 Oct 2025) EllapsedTime: 51.2 seconds RetCode: 0 Status: OK