Package: GA4GHclient Version: 1.34.0 Command: /Library/Frameworks/R.framework/Resources/bin/R CMD build --keep-empty-dirs --no-resave-data GA4GHclient StartedAt: 2025-10-30 16:58:33 -0400 (Thu, 30 Oct 2025) EndedAt: 2025-10-30 17:00:16 -0400 (Thu, 30 Oct 2025) EllapsedTime: 103.0 seconds RetCode: 0 Status: OK PackageFile: GA4GHclient_1.34.0.tar.gz PackageFileSize: 637.6 KiB