Package: GA4GHclient Version: 1.33.1 Command: rm -rf GA4GHclient.buildbin-libdir && mkdir GA4GHclient.buildbin-libdir && /Users/biocbuild/BBS/utils/build-universal.sh GA4GHclient_1.33.1.tar.gz /Library/Frameworks/R.framework/Resources/bin/R GA4GHclient.buildbin-libdir StartedAt: 2025-10-24 23:03:24 -0400 (Fri, 24 Oct 2025) EndedAt: 2025-10-24 23:03:46 -0400 (Fri, 24 Oct 2025) EllapsedTime: 21.4 seconds RetCode: 0 Status: OK PackageFile: GA4GHclient_1.33.1.tgz PackageFileSize: 760.6 KiB