Package: G4SNVHunter Version: 1.1.6 Command: /home/biocbuild/bbs-3.22-bioc/R/bin/R CMD INSTALL G4SNVHunter StartedAt: 2025-10-24 15:51:06 -0400 (Fri, 24 Oct 2025) EndedAt: 2025-10-24 15:51:55 -0400 (Fri, 24 Oct 2025) EllapsedTime: 48.4 seconds RetCode: 0 Status: OK