Package: G4SNVHunter Version: 1.2.0 Command: /Library/Frameworks/R.framework/Resources/bin/R CMD INSTALL G4SNVHunter StartedAt: 2025-11-03 15:42:25 -0500 (Mon, 03 Nov 2025) EndedAt: 2025-11-03 15:43:29 -0500 (Mon, 03 Nov 2025) EllapsedTime: 64.5 seconds RetCode: 0 Status: OK