Package: G4SNVHunter Version: 1.2.0 Command: /Library/Frameworks/R.framework/Resources/bin/R CMD build --keep-empty-dirs --no-resave-data G4SNVHunter StartedAt: 2025-11-03 17:04:54 -0500 (Mon, 03 Nov 2025) EndedAt: 2025-11-03 17:05:52 -0500 (Mon, 03 Nov 2025) EllapsedTime: 58.2 seconds RetCode: 0 Status: OK PackageFile: G4SNVHunter_1.2.0.tar.gz PackageFileSize: 963.7 KiB