Package: G4SNVHunter Version: 1.2.0 Command: rm -rf G4SNVHunter.buildbin-libdir && mkdir G4SNVHunter.buildbin-libdir && /Users/biocbuild/BBS/utils/build-universal.sh G4SNVHunter_1.2.0.tar.gz /Library/Frameworks/R.framework/Resources/bin/R G4SNVHunter.buildbin-libdir StartedAt: 2025-11-04 01:40:57 -0500 (Tue, 04 Nov 2025) EndedAt: 2025-11-04 01:42:11 -0500 (Tue, 04 Nov 2025) EllapsedTime: 73.7 seconds RetCode: 0 Status: OK PackageFile: G4SNVHunter_1.2.0.tgz PackageFileSize: 1.071 MiB