Package: G4SNVHunter Version: 1.1.6 Command: /Library/Frameworks/R.framework/Resources/bin/R CMD build --keep-empty-dirs --no-resave-data G4SNVHunter StartedAt: 2025-10-24 16:28:51 -0400 (Fri, 24 Oct 2025) EndedAt: 2025-10-24 16:29:12 -0400 (Fri, 24 Oct 2025) EllapsedTime: 20.2 seconds RetCode: 0 Status: OK PackageFile: G4SNVHunter_1.1.6.tar.gz PackageFileSize: 964.3 KiB